BEGIN:VCALENDAR
VERSION:2.0
PRODID:-//SA Accounting Academy//Events//EN
CALSCALE:GREGORIAN
METHOD:PUBLISH
BEGIN:VEVENT
UID:1338-1777048948@accountingacademy.co.za
DTSTAMP:20260424T164228Z
SUMMARY:Estate Planning: Wills and Trusts
DESCRIPTION:Estate planning is a critical step for anyone seeking to protect their wealth and ensure their assets are distributed according to their wishes.
DTSTART;TZID=Africa/Johannesburg:20250317T100000
DTEND;TZID=Africa/Johannesburg:20250317T120000
LOCATION:Online
ORGANIZER;CN=SA Accounting Academy:mailto:info@accountingacademy.co.za
URL:https://accountingacademy.co.za/events/1338
BEGIN:VALARM
ACTION:DISPLAY
DESCRIPTION:Reminder
TRIGGER:-P1D
END:VALARM
END:VEVENT
END:VCALENDAR