BEGIN:VCALENDAR
VERSION:2.0
PRODID:-//SA Accounting Academy//Events//EN
CALSCALE:GREGORIAN
METHOD:PUBLISH
BEGIN:VEVENT
UID:1632-1777053066@accountingacademy.co.za
DTSTAMP:20260424T175106Z
SUMMARY:ISQM1 and Quality Control for Audits
DESCRIPTION:International Standard on Quality Management 1 (ISQM 1) has been effective since late 2022, yet the latest IRBA public inspections report reveals that many audit firms are still treating it like a tick-box compliance exercise.
DTSTART;TZID=Africa/Johannesburg:20260521T100000
DTEND;TZID=Africa/Johannesburg:20260521T120000
LOCATION:Online
ORGANIZER;CN=SA Accounting Academy:mailto:info@accountingacademy.co.za
URL:https://accountingacademy.co.za/events/1632
BEGIN:VALARM
ACTION:DISPLAY
DESCRIPTION:Reminder
TRIGGER:-P1D
END:VALARM
END:VEVENT
END:VCALENDAR