BEGIN:VCALENDAR
VERSION:2.0
PRODID:-//SA Accounting Academy//Events//EN
CALSCALE:GREGORIAN
METHOD:PUBLISH
BEGIN:VEVENT
UID:1650-1776774441@accountingacademy.co.za
DTSTAMP:20260421T122721Z
SUMMARY:Succeed at your Studies 2026 Session 1: Mindset, Motivation and Mental Barriers
DESCRIPTION:Academic success is not determined by intelligence alone, but by mindset, emotional regulation, and psychological readiness for sustained performance.
DTSTART;TZID=Africa/Johannesburg:20260331T100000
DTEND;TZID=Africa/Johannesburg:20260331T110000
LOCATION:Online
ORGANIZER;CN=SA Accounting Academy:mailto:info@accountingacademy.co.za
URL:https://accountingacademy.co.za/events/1650
BEGIN:VALARM
ACTION:DISPLAY
DESCRIPTION:Reminder
TRIGGER:-P1D
END:VALARM
END:VEVENT
END:VCALENDAR