BEGIN:VCALENDAR
VERSION:2.0
PRODID:-//SA Accounting Academy//Events//EN
CALSCALE:GREGORIAN
METHOD:PUBLISH
BEGIN:VEVENT
UID:1651-1776775021@accountingacademy.co.za
DTSTAMP:20260421T123701Z
SUMMARY:Succeed at your Studies 2026 Session 2: Time, Energy and Boundaries
DESCRIPTION:Effective studying requires more than time management — it requires energy management, realistic planning, and healthy boundaries.
DTSTART;TZID=Africa/Johannesburg:20260407T100000
DTEND;TZID=Africa/Johannesburg:20260407T110000
LOCATION:Online
ORGANIZER;CN=SA Accounting Academy:mailto:info@accountingacademy.co.za
URL:https://accountingacademy.co.za/events/1651
BEGIN:VALARM
ACTION:DISPLAY
DESCRIPTION:Reminder
TRIGGER:-P1D
END:VALARM
END:VEVENT
END:VCALENDAR